BEGIN:VCALENDAR
VERSION:2.0
PRODID:-//Corpus Christi Museum of Science and History - ECPv6.15.14//NONSGML v1.0//EN
CALSCALE:GREGORIAN
METHOD:PUBLISH
X-WR-CALNAME:Corpus Christi Museum of Science and History
X-ORIGINAL-URL:https://www.ccmuseum.com
X-WR-CALDESC:Events for Corpus Christi Museum of Science and History
REFRESH-INTERVAL;VALUE=DURATION:PT1H
X-Robots-Tag:noindex
X-PUBLISHED-TTL:PT1H
BEGIN:VTIMEZONE
TZID:America/Chicago
BEGIN:DAYLIGHT
TZOFFSETFROM:-0600
TZOFFSETTO:-0500
TZNAME:CDT
DTSTART:20240310T080000
END:DAYLIGHT
BEGIN:STANDARD
TZOFFSETFROM:-0500
TZOFFSETTO:-0600
TZNAME:CST
DTSTART:20241103T070000
END:STANDARD
BEGIN:DAYLIGHT
TZOFFSETFROM:-0600
TZOFFSETTO:-0500
TZNAME:CDT
DTSTART:20250309T080000
END:DAYLIGHT
BEGIN:STANDARD
TZOFFSETFROM:-0500
TZOFFSETTO:-0600
TZNAME:CST
DTSTART:20251102T070000
END:STANDARD
BEGIN:DAYLIGHT
TZOFFSETFROM:-0600
TZOFFSETTO:-0500
TZNAME:CDT
DTSTART:20260308T080000
END:DAYLIGHT
BEGIN:STANDARD
TZOFFSETFROM:-0500
TZOFFSETTO:-0600
TZNAME:CST
DTSTART:20261101T070000
END:STANDARD
END:VTIMEZONE
BEGIN:VEVENT
DTSTART;TZID=America/Chicago:20250906T100000
DTEND;TZID=America/Chicago:20250927T170000
DTSTAMP:20260423T182420
CREATED:20250829T164924Z
LAST-MODIFIED:20250829T164924Z
UID:25105-1757152800-1758992400@www.ccmuseum.com
SUMMARY:Exploration Theme: Migration
DESCRIPTION:Buy Tickets Now!\n\n\n\n\n\n\n\n\n\n\n\n\n\n  \n\n\n\n\n\n\n\n\n\n\n\n\n\n\n	Event Details:\n\nSoar into the Museum this September for our Exploration Theme\, Migration. Every Saturday from 10:00 am – 5:00 pm\, join us for fun migration themed activities. Witness the life cycle of a butterfly\, engage with our staff about migration\, and more! Flutter on by! \nGuests are encouraged to beat the line and pre-purchase tickets online today. The cost of entry is General Admission for non-Members. Museum Members and children under 3 years old are FREE. \n\n\n\n\n\n\n\n\n\n\n\n\n\n\n\n\n\n	Event Highlights:\n\n\n\n\n\n\n\n\n\n\n\n\n\n\nDetails: \n\nEvery Saturday in September (September 6\, 13\, 20\, & 27)\n10:00 a.m. to 5:00 p.m.\nGeneral Admission for Non-Members\nMuseum Members & Children Under 3 are FREE\n\n\n\n\n\nWhat’s Happening: \n\nButterfly Life Cycle\nMigration Themed Activities\nMigration Themed Coloring Sheets\nAnd More!\n\n\n\n\n\n\n\n\n\n\n\n\n\n\n\n\n\n\n\n\n\n\n\n\n\n\nBuy Tickets Now!
URL:https://www.ccmuseum.com/event/exploration-theme-migration/
LOCATION:Corpus Christi Museum of Science and History\, 1900 N. Chaparral St.\, Corpus Christi\, TX\, 78401\, United States
CATEGORIES:Adults,Children,Event,Family,Free for Members
ATTACH;FMTTYPE=image/webp:https://www.ccmuseum.com/wp-content/uploads/2025/08/Migration2025-Socials_Web-Banner.webp
END:VEVENT
END:VCALENDAR