BEGIN:VCALENDAR
VERSION:2.0
PRODID:-//Corpus Christi Museum of Science and History - ECPv6.15.14//NONSGML v1.0//EN
CALSCALE:GREGORIAN
METHOD:PUBLISH
X-WR-CALNAME:Corpus Christi Museum of Science and History
X-ORIGINAL-URL:https://www.ccmuseum.com
X-WR-CALDESC:Events for Corpus Christi Museum of Science and History
REFRESH-INTERVAL;VALUE=DURATION:PT1H
X-Robots-Tag:noindex
X-PUBLISHED-TTL:PT1H
BEGIN:VTIMEZONE
TZID:America/Chicago
BEGIN:DAYLIGHT
TZOFFSETFROM:-0600
TZOFFSETTO:-0500
TZNAME:CDT
DTSTART:20240310T080000
END:DAYLIGHT
BEGIN:STANDARD
TZOFFSETFROM:-0500
TZOFFSETTO:-0600
TZNAME:CST
DTSTART:20241103T070000
END:STANDARD
BEGIN:DAYLIGHT
TZOFFSETFROM:-0600
TZOFFSETTO:-0500
TZNAME:CDT
DTSTART:20250309T080000
END:DAYLIGHT
BEGIN:STANDARD
TZOFFSETFROM:-0500
TZOFFSETTO:-0600
TZNAME:CST
DTSTART:20251102T070000
END:STANDARD
BEGIN:DAYLIGHT
TZOFFSETFROM:-0600
TZOFFSETTO:-0500
TZNAME:CDT
DTSTART:20260308T080000
END:DAYLIGHT
BEGIN:STANDARD
TZOFFSETFROM:-0500
TZOFFSETTO:-0600
TZNAME:CST
DTSTART:20261101T070000
END:STANDARD
END:VTIMEZONE
BEGIN:VEVENT
DTSTART;TZID=America/Chicago:20250918T173000
DTEND;TZID=America/Chicago:20250918T210000
DTSTAMP:20260423T182022
CREATED:20250807T205542Z
LAST-MODIFIED:20250807T205542Z
UID:25034-1758216600-1758229200@www.ccmuseum.com
SUMMARY:Geek Gala 2025
DESCRIPTION:Event Details:\n\nGet ready to Gala like never before! \nMark your calendar for the Corpus Christi Museum of Science and History’s Geek Gala: Ice Age to Space Age. Where prehistoric creatures meet galactic dreams.  \nJoin us as we “geek out” and celebrate science\, history\, curiosity\, and a night full of spectacle\, surprises\, starry eyed wonder\, and cocktails!  \nThursday September 18\, 2025 \nCorpus Christi Museum of Science and History \n\n\n\n\n\n\n\n\n\n\n\n\n\n\n\n\n\n\n\n\n\n\n\n\n\n\nLearn More!
URL:https://www.ccmuseum.com/event/geek-gala-2025/
LOCATION:Corpus Christi Museum of Science and History\, 1900 N. Chaparral St.\, Corpus Christi\, TX\, 78401\, United States
CATEGORIES:Adults,Discounted for Members,Event
ATTACH;FMTTYPE=image/webp:https://www.ccmuseum.com/wp-content/uploads/2025/08/GeekGala-OnlineGraphics_maingraphic-11-scaled.webp
END:VEVENT
END:VCALENDAR