BEGIN:VCALENDAR
VERSION:2.0
PRODID:-//Corpus Christi Museum of Science and History - ECPv6.15.14//NONSGML v1.0//EN
CALSCALE:GREGORIAN
METHOD:PUBLISH
X-WR-CALNAME:Corpus Christi Museum of Science and History
X-ORIGINAL-URL:https://www.ccmuseum.com
X-WR-CALDESC:Events for Corpus Christi Museum of Science and History
REFRESH-INTERVAL;VALUE=DURATION:PT1H
X-Robots-Tag:noindex
X-PUBLISHED-TTL:PT1H
BEGIN:VTIMEZONE
TZID:America/Chicago
BEGIN:DAYLIGHT
TZOFFSETFROM:-0600
TZOFFSETTO:-0500
TZNAME:CDT
DTSTART:20240310T080000
END:DAYLIGHT
BEGIN:STANDARD
TZOFFSETFROM:-0500
TZOFFSETTO:-0600
TZNAME:CST
DTSTART:20241103T070000
END:STANDARD
BEGIN:DAYLIGHT
TZOFFSETFROM:-0600
TZOFFSETTO:-0500
TZNAME:CDT
DTSTART:20250309T080000
END:DAYLIGHT
BEGIN:STANDARD
TZOFFSETFROM:-0500
TZOFFSETTO:-0600
TZNAME:CST
DTSTART:20251102T070000
END:STANDARD
BEGIN:DAYLIGHT
TZOFFSETFROM:-0600
TZOFFSETTO:-0500
TZNAME:CDT
DTSTART:20260308T080000
END:DAYLIGHT
BEGIN:STANDARD
TZOFFSETFROM:-0500
TZOFFSETTO:-0600
TZNAME:CST
DTSTART:20261101T070000
END:STANDARD
END:VTIMEZONE
BEGIN:VEVENT
DTSTART;TZID=America/Chicago:20251206T100000
DTEND;TZID=America/Chicago:20251227T170000
DTSTAMP:20260419T140318
CREATED:20251208T152401Z
LAST-MODIFIED:20251220T163519Z
UID:25249-1765015200-1766854800@www.ccmuseum.com
SUMMARY:Holidays in the Coastal Bend 2025
DESCRIPTION:Event Details:\n\nJoin our Museum educators every weekend with festive activities. Plus\, look forward to more fun during the holidays with our Nutcracker Ballet themed scavenger hunt and a performance from the Harbor Playhouse Christmas Carol cast! We hope to see you soon! \nFREE admission with thanks to HEB. \n\n\n	Event Highlights:\n\n\n\n\n\n\n\n\n\n\n\n\n\n\nDetails: \n\nEvery weekend in December\n10:00 a.m. to 5:00 p.m.\nFREE admission with thanks to HEB\n\n\n\n\n\nWhat’s Happening: \n\nHoliday activities & crafts\nNutcracker Ballet themed scavenger hunt\nDecember 13: Harbor Playhouse Christmas Carol performance | 11:00 a.m. & 2:00 p.m.
URL:https://www.ccmuseum.com/event/holidays-in-the-coastal-bend-2025/
LOCATION:Corpus Christi Museum of Science and History\, 1900 N. Chaparral St.\, Corpus Christi\, TX\, 78401\, United States
ATTACH;FMTTYPE=image/webp:https://www.ccmuseum.com/wp-content/uploads/2025/12/Holidays2025-Socials_Web-Banner.webp
END:VEVENT
END:VCALENDAR