BEGIN:VCALENDAR
VERSION:2.0
PRODID:-//Corpus Christi Museum of Science and History - ECPv6.15.14//NONSGML v1.0//EN
CALSCALE:GREGORIAN
METHOD:PUBLISH
X-WR-CALNAME:Corpus Christi Museum of Science and History
X-ORIGINAL-URL:https://www.ccmuseum.com
X-WR-CALDESC:Events for Corpus Christi Museum of Science and History
REFRESH-INTERVAL;VALUE=DURATION:PT1H
X-Robots-Tag:noindex
X-PUBLISHED-TTL:PT1H
BEGIN:VTIMEZONE
TZID:America/Chicago
BEGIN:DAYLIGHT
TZOFFSETFROM:-0600
TZOFFSETTO:-0500
TZNAME:CDT
DTSTART:20240310T080000
END:DAYLIGHT
BEGIN:STANDARD
TZOFFSETFROM:-0500
TZOFFSETTO:-0600
TZNAME:CST
DTSTART:20241103T070000
END:STANDARD
BEGIN:DAYLIGHT
TZOFFSETFROM:-0600
TZOFFSETTO:-0500
TZNAME:CDT
DTSTART:20250309T080000
END:DAYLIGHT
BEGIN:STANDARD
TZOFFSETFROM:-0500
TZOFFSETTO:-0600
TZNAME:CST
DTSTART:20251102T070000
END:STANDARD
BEGIN:DAYLIGHT
TZOFFSETFROM:-0600
TZOFFSETTO:-0500
TZNAME:CDT
DTSTART:20260308T080000
END:DAYLIGHT
BEGIN:STANDARD
TZOFFSETFROM:-0500
TZOFFSETTO:-0600
TZNAME:CST
DTSTART:20261101T070000
END:STANDARD
END:VTIMEZONE
BEGIN:VEVENT
DTSTART;TZID=America/Chicago:20250501T160000
DTEND;TZID=America/Chicago:20250511T210000
DTSTAMP:20260422T055552
CREATED:20250318T181420Z
LAST-MODIFIED:20250422T143926Z
UID:24675-1746115200-1746997200@www.ccmuseum.com
SUMMARY:Ranching & Heritage (Buc Days)
DESCRIPTION:You can still visit the Museum before Buc Days activities each day! We will be open from 10:00 a.m. – 3:00 p.m. Monday – Friday. Please pay for tickets at the Front Desk. Museum pricing only applicable for Monday – Friday 10:00 a.m. – 3:00 p.m.\n\n\n\n\n\n\n\n\n\n\n\n\n\nLearn More About Buc Days!\n\n\n\n\n\n\n\n\n\n\n\n\n\n  \n\n\n\n\n\n\n\n\n\n\n\n\n\n\n	Event Details:\n\nThe Corpus Christi Museum of Science & History welcomes all buckaroos to continue to explore ranch life throughout Buc Days! Gather ’round as we talk about the history of the cattle industry in Texas and the King and Kenedy ranches. Plus\, a special look at the art of leather stamping and branding. \nGuests are encouraged to beat the line and pre-purchase tickets online today. The cost of entry is General Admission for non-Members. Museum Members and children 2 years and under are FREE. \n\n\n	Event Highlights:\n\n\n\n\n\n\n\n\n\n\n\n\n\n\nDetails: \n\nMay 1-11\nMon-Fri | 4:00 p.m. – 9:00 p.m.\nWeekends | 12:00 p.m. – 9:00 p.m.\nGuests may tour the Museum Monday through Friday from 10:00 a.m. – 3:00 p.m. with regular Museum admission prices.\n\nMuseum members & children 2 Years and under are FREE during this time.\n\n\n\n\n\n\n\nWhat’s Happening: \n\nScience Shows\nLeather Stamping & Branding Activity\nLearn the History of Local Ranches\nMuseum Live!\nAnd More!\n\n\n\n\n\n\n\n\n\n\n\n\n\n\n\n\n\n\n\n\n\n\n\n\n\n\n\n	Image Gallery:\n\n\n\n\n\n\n\n\n\n\n\n\n\n\n\n\n\n\n\n\n\n\n\n\n\n\n\n\n\n\n\n\n\n\n\n\n	You can still visit the Museum before Buc Days activities each day! We will be open from 10:00 a.m. – 3:00 p.m. Monday – Friday. Please pay for tickets at the Front Desk. Museum pricing only applicable for Monday – Friday 10:00 a.m. – 3:00 p.m.\n\n\n\n\n\n\n\n\n\n\n\n\n\nLearn More About Buc Days!
URL:https://www.ccmuseum.com/event/ranching-heritage-buc-days/
LOCATION:Corpus Christi Museum of Science and History\, 1900 N. Chaparral St.\, Corpus Christi\, TX\, 78401\, United States
CATEGORIES:Adults,Children,Event,Family
ATTACH;FMTTYPE=image/jpeg:https://www.ccmuseum.com/wp-content/uploads/2025/03/RanchingHeritage25_Social_BucDays_Web-Banner-10.jpg
END:VEVENT
END:VCALENDAR